BEGIN:VCALENDAR
VERSION:2.0
PRODID:-//Filarmonica &quot;George Enescu&quot; Botoșani - ECPv6.15.20//NONSGML v1.0//EN
CALSCALE:GREGORIAN
METHOD:PUBLISH
X-WR-CALNAME:Filarmonica &quot;George Enescu&quot; Botoșani
X-ORIGINAL-URL:https://filarmonicabotosani.ro
X-WR-CALDESC:Events for Filarmonica &quot;George Enescu&quot; Botoșani
REFRESH-INTERVAL;VALUE=DURATION:PT1H
X-Robots-Tag:noindex
X-PUBLISHED-TTL:PT1H
BEGIN:VTIMEZONE
TZID:Europe/Bucharest
BEGIN:DAYLIGHT
TZOFFSETFROM:+0200
TZOFFSETTO:+0300
TZNAME:EEST
DTSTART:20220327T010000
END:DAYLIGHT
BEGIN:STANDARD
TZOFFSETFROM:+0300
TZOFFSETTO:+0200
TZNAME:EET
DTSTART:20221030T010000
END:STANDARD
BEGIN:DAYLIGHT
TZOFFSETFROM:+0200
TZOFFSETTO:+0300
TZNAME:EEST
DTSTART:20230326T010000
END:DAYLIGHT
BEGIN:STANDARD
TZOFFSETFROM:+0300
TZOFFSETTO:+0200
TZNAME:EET
DTSTART:20231029T010000
END:STANDARD
BEGIN:DAYLIGHT
TZOFFSETFROM:+0200
TZOFFSETTO:+0300
TZNAME:EEST
DTSTART:20240331T010000
END:DAYLIGHT
BEGIN:STANDARD
TZOFFSETFROM:+0300
TZOFFSETTO:+0200
TZNAME:EET
DTSTART:20241027T010000
END:STANDARD
END:VTIMEZONE
BEGIN:VEVENT
DTSTART;TZID=Europe/Bucharest:20230505T183000
DTEND;TZID=Europe/Bucharest:20230505T200000
DTSTAMP:20260422T072528
CREATED:20230125T133146Z
LAST-MODIFIED:20260218T152344Z
UID:6484-1683311400-1683316800@filarmonicabotosani.ro
SUMMARY:STAND-UP COMEDY MUZICAL: The Free Tenors
DESCRIPTION:Primul Show de Stand Up Comedy Muzical din România! \nSoliști:\nCEZAR OATU\nANDREI DUȚU\nMIHNEA NICULESCU \n(fără orchestră)
URL:https://filarmonicabotosani.ro/concert/the-free-tenors
LOCATION:Casa de Cultură a Sindicatelor\, Botoșani\, România
CATEGORIES:Concerte
ATTACH;FMTTYPE=image/jpeg:https://filarmonicabotosani.ro/wp-content/uploads/2023/01/5-mai-2023.jpg
END:VEVENT
BEGIN:VEVENT
DTSTART;TZID=Europe/Bucharest:20230512T183000
DTEND;TZID=Europe/Bucharest:20230512T200000
DTSTAMP:20260422T072528
CREATED:20230330T102952Z
LAST-MODIFIED:20260218T152344Z
UID:6553-1683916200-1683921600@filarmonicabotosani.ro
SUMMARY:HOLOGRAF SIMFONIC
DESCRIPTION:Dirijor: ALEXANDRU ILIE\nSoliști: HOLOGRAF \nMai multe detalii în curând!
URL:https://filarmonicabotosani.ro/concert/holograf-simfonic
LOCATION:Casa de Cultură a Sindicatelor\, Botoșani\, România
CATEGORIES:Concerte
ATTACH;FMTTYPE=image/jpeg:https://filarmonicabotosani.ro/wp-content/uploads/2022/09/imagine-implicita.jpg
END:VEVENT
BEGIN:VEVENT
DTSTART;TZID=Europe/Bucharest:20230519T183000
DTEND;TZID=Europe/Bucharest:20230519T200000
DTSTAMP:20260422T072528
CREATED:20230330T103504Z
LAST-MODIFIED:20260218T152344Z
UID:6552-1684521000-1684526400@filarmonicabotosani.ro
SUMMARY:Concert simfonic
DESCRIPTION:Dirijor: EMIL AMBROSIE\nSolist: IOAN – GABRIEL LUCA-corn \nÎn program:\nW. A. Mozart – Uvertura Operei „Nunta lui Figaro”\nConcertul nr. 3 pentru corn și orchestră\nSimfonia nr. 41
URL:https://filarmonicabotosani.ro/concert/concert-simfonic-19-05-2023
LOCATION:Casa de Cultură a Sindicatelor\, Botoșani\, România
CATEGORIES:Concerte
ATTACH;FMTTYPE=image/jpeg:https://filarmonicabotosani.ro/wp-content/uploads/2022/09/imagine-implicita.jpg
END:VEVENT
BEGIN:VEVENT
DTSTART;TZID=Europe/Bucharest:20230526T183000
DTEND;TZID=Europe/Bucharest:20230526T200000
DTSTAMP:20260422T072528
CREATED:20230330T103711Z
LAST-MODIFIED:20260218T152343Z
UID:6556-1685125800-1685131200@filarmonicabotosani.ro
SUMMARY:Concert simfonic
DESCRIPTION:Dirijor: LIVIU CONDRIUC\nSolist:\nFLORIN IONESCU-GALAȚI – vioară\nILINCA SBÂNȚU – violă \nÎn program:\nW. A. Mozart – Sinfonia Concertantă K. 364
URL:https://filarmonicabotosani.ro/concert/concert-simfonic-26-05-2023
LOCATION:Casa de Cultură a Sindicatelor\, Botoșani\, România
CATEGORIES:Concerte
ATTACH;FMTTYPE=image/jpeg:https://filarmonicabotosani.ro/wp-content/uploads/2022/09/imagine-implicita.jpg
END:VEVENT
END:VCALENDAR