BEGIN:VCALENDAR
VERSION:2.0
PRODID:-//Filarmonica &quot;George Enescu&quot; Botoșani - ECPv6.15.20//NONSGML v1.0//EN
CALSCALE:GREGORIAN
METHOD:PUBLISH
X-WR-CALNAME:Filarmonica &quot;George Enescu&quot; Botoșani
X-ORIGINAL-URL:https://filarmonicabotosani.ro
X-WR-CALDESC:Events for Filarmonica &quot;George Enescu&quot; Botoșani
REFRESH-INTERVAL;VALUE=DURATION:PT1H
X-Robots-Tag:noindex
X-PUBLISHED-TTL:PT1H
BEGIN:VTIMEZONE
TZID:Europe/Bucharest
BEGIN:DAYLIGHT
TZOFFSETFROM:+0200
TZOFFSETTO:+0300
TZNAME:EEST
DTSTART:20220327T010000
END:DAYLIGHT
BEGIN:STANDARD
TZOFFSETFROM:+0300
TZOFFSETTO:+0200
TZNAME:EET
DTSTART:20221030T010000
END:STANDARD
BEGIN:DAYLIGHT
TZOFFSETFROM:+0200
TZOFFSETTO:+0300
TZNAME:EEST
DTSTART:20230326T010000
END:DAYLIGHT
BEGIN:STANDARD
TZOFFSETFROM:+0300
TZOFFSETTO:+0200
TZNAME:EET
DTSTART:20231029T010000
END:STANDARD
BEGIN:DAYLIGHT
TZOFFSETFROM:+0200
TZOFFSETTO:+0300
TZNAME:EEST
DTSTART:20240331T010000
END:DAYLIGHT
BEGIN:STANDARD
TZOFFSETFROM:+0300
TZOFFSETTO:+0200
TZNAME:EET
DTSTART:20241027T010000
END:STANDARD
END:VTIMEZONE
BEGIN:VEVENT
DTSTART;TZID=Europe/Bucharest:20230602T183000
DTEND;TZID=Europe/Bucharest:20230602T200000
DTSTAMP:20260422T055728
CREATED:20230330T104021Z
LAST-MODIFIED:20260218T152343Z
UID:6558-1685730600-1685736000@filarmonicabotosani.ro
SUMMARY:Concert vocal-simfonic
DESCRIPTION:Dirijor: TIBERIU SOARE\nSolist: REMUS AZOIȚEI \nÎn program:\nP. I. Tchaikovsky – Concertul pentru vioară și orchestră în Re major\nG. Verdi – Messa da Requiem
URL:https://filarmonicabotosani.ro/concert/concert-vocal-simfonic-2-6-2023
LOCATION:Casa de Cultură a Sindicatelor\, Botoșani\, România
CATEGORIES:Concerte
ATTACH;FMTTYPE=image/jpeg:https://filarmonicabotosani.ro/wp-content/uploads/2023/03/2iunie.jpg
END:VEVENT
BEGIN:VEVENT
DTSTART;TZID=Europe/Bucharest:20230609T183000
DTEND;TZID=Europe/Bucharest:20230609T200000
DTSTAMP:20260422T055728
CREATED:20230330T104304Z
LAST-MODIFIED:20260218T152343Z
UID:6560-1686335400-1686340800@filarmonicabotosani.ro
SUMMARY:Concert simfonic
DESCRIPTION:Dirijor: FLORENTIN – PETRE GÎSCĂ\nSoliști:\nDANIEL PAICU – clarinet\nVIRIGIL PRISACARIU – contrabass\n \nÎn program:\nW. A. Mozart – Uvertura Operei ”Răpirea din Serai”\nG. Bottesini – Gran Duo pentru clarinet\, contrabas și orchestră\nW. A. Mozart – Simfonia nr 29
URL:https://filarmonicabotosani.ro/concert/concert-simfonic-9-6-2023
LOCATION:Casa de Cultură a Sindicatelor\, Botoșani\, România
CATEGORIES:Concerte
ATTACH;FMTTYPE=image/jpeg:https://filarmonicabotosani.ro/wp-content/uploads/2022/09/imagine-implicita.jpg
END:VEVENT
BEGIN:VEVENT
DTSTART;TZID=Europe/Bucharest:20230616T183000
DTEND;TZID=Europe/Bucharest:20230616T200000
DTSTAMP:20260422T055728
CREATED:20230330T104643Z
LAST-MODIFIED:20260218T152343Z
UID:6562-1686940200-1686945600@filarmonicabotosani.ro
SUMMARY:Concert simfonic
DESCRIPTION:Un titan al artelor spectacolului românesc va ajunge la Botoșani!  Pe tema celor 70 de ani de la înființare\, Filarmonica George Enescu Botoșani pregătește un eveniment special!  \nPe 16 iunie 2023\, de la ora 18:30\, la Casa de Cultură a Sindicatelor va fi prezentată opera „Peer Gynt”\, pe compoziția pianistului norvegian Edvard Grieg\, sub bagheta dirijorului Mihail Agafița\, în interpretarea inegalabilului Florin Piersic!  \nBiletele pot fi achiziționate începând cu 6 iunie 2023\, de la sediul Filarmonicii George Enescu sau online\, pe www.iabilet.ro! \nVă invităm la spectacol! \nDirijor: Mihail Agafița\nPovestitor: FLORIN PIERSIC \nÎn program:\nE. Grieg – Peer Gynt – Suitele 1 și 2
URL:https://filarmonicabotosani.ro/concert/concert-simfonic-16-6-2023
LOCATION:Casa de Cultură a Sindicatelor\, Botoșani\, România
CATEGORIES:Concerte
ATTACH;FMTTYPE=image/jpeg:https://filarmonicabotosani.ro/wp-content/uploads/2023/03/florin-piersic.jpg
END:VEVENT
BEGIN:VEVENT
DTSTART;TZID=Europe/Bucharest:20230623T183000
DTEND;TZID=Europe/Bucharest:20230623T200000
DTSTAMP:20260422T055728
CREATED:20230330T105023Z
LAST-MODIFIED:20260218T152342Z
UID:6564-1687545000-1687550400@filarmonicabotosani.ro
SUMMARY:Concert simfonic
DESCRIPTION:Dirijor: GHEORGHE COSTIN\nSolist: VINICIU MOROIANU \nÎn program:\nL. van Beethoven – Concertul pentru pian și orchestră nr 4\nA. Dvorak – Simfonia a IX-a „Din lumea nouă”
URL:https://filarmonicabotosani.ro/concert/concert-simfonic-23-6-2023
LOCATION:Casa de Cultură a Sindicatelor\, Botoșani\, România
CATEGORIES:Concerte
ATTACH;FMTTYPE=image/jpeg:https://filarmonicabotosani.ro/wp-content/uploads/2022/09/imagine-implicita.jpg
END:VEVENT
END:VCALENDAR