BEGIN:VCALENDAR
VERSION:2.0
PRODID:-//Filarmonica &quot;George Enescu&quot; Botoșani - ECPv6.15.20//NONSGML v1.0//EN
CALSCALE:GREGORIAN
METHOD:PUBLISH
X-WR-CALNAME:Filarmonica &quot;George Enescu&quot; Botoșani
X-ORIGINAL-URL:https://filarmonicabotosani.ro
X-WR-CALDESC:Events for Filarmonica &quot;George Enescu&quot; Botoșani
REFRESH-INTERVAL;VALUE=DURATION:PT1H
X-Robots-Tag:noindex
X-PUBLISHED-TTL:PT1H
BEGIN:VTIMEZONE
TZID:Europe/Bucharest
BEGIN:DAYLIGHT
TZOFFSETFROM:+0200
TZOFFSETTO:+0300
TZNAME:EEST
DTSTART:20220327T010000
END:DAYLIGHT
BEGIN:STANDARD
TZOFFSETFROM:+0300
TZOFFSETTO:+0200
TZNAME:EET
DTSTART:20221030T010000
END:STANDARD
BEGIN:DAYLIGHT
TZOFFSETFROM:+0200
TZOFFSETTO:+0300
TZNAME:EEST
DTSTART:20230326T010000
END:DAYLIGHT
BEGIN:STANDARD
TZOFFSETFROM:+0300
TZOFFSETTO:+0200
TZNAME:EET
DTSTART:20231029T010000
END:STANDARD
BEGIN:DAYLIGHT
TZOFFSETFROM:+0200
TZOFFSETTO:+0300
TZNAME:EEST
DTSTART:20240331T010000
END:DAYLIGHT
BEGIN:STANDARD
TZOFFSETFROM:+0300
TZOFFSETTO:+0200
TZNAME:EET
DTSTART:20241027T010000
END:STANDARD
END:VTIMEZONE
BEGIN:VEVENT
DTSTART;TZID=Europe/Bucharest:20231103T183000
DTEND;TZID=Europe/Bucharest:20231103T193000
DTSTAMP:20260421T223552
CREATED:20231101T190116Z
LAST-MODIFIED:20260218T152341Z
UID:6806-1699036200-1699039800@filarmonicabotosani.ro
SUMMARY:Concert simfonic
DESCRIPTION:
URL:https://filarmonicabotosani.ro/concert/concert-simfonic-3nov2023
LOCATION:Casa de Cultură a Sindicatelor\, Botoșani\, România
CATEGORIES:Concerte
ATTACH;FMTTYPE=image/jpeg:https://filarmonicabotosani.ro/wp-content/uploads/2023/11/3nov.jpg
END:VEVENT
BEGIN:VEVENT
DTSTART;TZID=Europe/Bucharest:20231112T183000
DTEND;TZID=Europe/Bucharest:20231112T203000
DTSTAMP:20260421T223552
CREATED:20231024T130718Z
LAST-MODIFIED:20260218T152340Z
UID:6797-1699813800-1699821000@filarmonicabotosani.ro
SUMMARY:Irina Rimes Simfonic
DESCRIPTION:FILARMONICA BOTOSANI  bifeazã în curând o altã Premierã Naționalã! \nPentru prima datã\, un concert în cadrul cãruia tot repertoriul ales al artistei Irina Rimes va fi Integral Simfonic\, alãturi de Orchestra Filarmonicii „George Enescu” Botoşani\, concert Dirijat de cãtre Alexandru Ilie de la Teatrul Național de Operetã Bucureşti. \nBiletele vor fi puse în vânzare pe 25 octombrie\, la sediul filarmonicii în format fizic şi pe 24 octombrie online pe iabilet.ro\, în limita numãrului de locuri disponibile. \nPreț bilet (la sediul institutiei):\n150 ron – partea de jos a sãlii.\n120 ron – balcon.
URL:https://filarmonicabotosani.ro/concert/irina-rimes-simfonic
LOCATION:Casa de Cultură a Sindicatelor\, Botoșani\, România
CATEGORIES:Concerte
ATTACH;FMTTYPE=image/jpeg:https://filarmonicabotosani.ro/wp-content/uploads/2023/10/irina-rimes.jpg
END:VEVENT
BEGIN:VEVENT
DTSTART;TZID=Europe/Bucharest:20231117T183000
DTEND;TZID=Europe/Bucharest:20231117T193000
DTSTAMP:20260421T223552
CREATED:20231107T094301Z
LAST-MODIFIED:20260218T152340Z
UID:6809-1700245800-1700249400@filarmonicabotosani.ro
SUMMARY:Concert Simfonic
DESCRIPTION:Dirijor- MIHAIL AGAFIȚA \nSolist- Mirel LIȚÃ\nSolo vioarã- Raul CHIŞ \nIn program:\nModest Mussorgsky:  Prelude la opera ” Khovanshchina”\nNino Rota:Concert pentru trombon și orchestră în Do major \n N.Rimsky Korsakov- Suita simfonică „Scheherazada” op.35 \nÎn iarna anului 1887\, în timp ce lucra pentru a finaliza opera neterminată a lui Alexander Borodin \, Prințul Igor \, Rimsky-Korsakov a decis să compună o piesă orchestrală bazată pe imagini din O mie și una de nopți.\nConform manuscrisului\, compozitorul a finalizat lucrarea în vara anului 1888.\n„Seherezada” Op. 35 este o suită simfonică alcătuită din patru părți\, în care se împletesc elemente muzicale caracteristice muzicii rusești.\n1. Marea Și Corabia Lui Simbad (Largo E Maestoso)\n2. Povestea Prințului Kalendar (Lento)\n3. Tînărul Prinț Și Tînăra Prințesă (Andantino No Quasi Allegretto)\n4. Festival La Bagdad. Naufragiul (Allegro Molto) \nPreț bilet întreg- 40 lei\nPreț bilet redus- 20 lei \nBiletele se pot procura de la sediul Filarmonicii sau la intrarea în sala de concert.
URL:https://filarmonicabotosani.ro/concert/concert-simfonic-171123
LOCATION:Casa de Cultură a Sindicatelor\, Botoșani\, România
CATEGORIES:Concerte
ATTACH;FMTTYPE=image/jpeg:https://filarmonicabotosani.ro/wp-content/uploads/2023/11/Seherezada.jpg
END:VEVENT
BEGIN:VEVENT
DTSTART;TZID=Europe/Bucharest:20231123T183000
DTEND;TZID=Europe/Bucharest:20231123T193000
DTSTAMP:20260421T223552
CREATED:20231107T094543Z
LAST-MODIFIED:20260218T152340Z
UID:6811-1700764200-1700767800@filarmonicabotosani.ro
SUMMARY:Musical: Sunetul Muzicii
DESCRIPTION:Filarmonica „George Enescu” Botoşani în colaborare cu Opera Naţională Română Iaşi\nvă prezintă: MUSICALUL „SUNETUL MUZICII”
URL:https://filarmonicabotosani.ro/concert/musical-sunetul-muzicii
LOCATION:Casa de Cultură a Sindicatelor\, Botoșani\, România
CATEGORIES:Concerte
ATTACH;FMTTYPE=image/jpeg:https://filarmonicabotosani.ro/wp-content/uploads/2022/09/imagine-implicita.jpg
END:VEVENT
BEGIN:VEVENT
DTSTART;TZID=Europe/Bucharest:20231130T183000
DTEND;TZID=Europe/Bucharest:20231130T193000
DTSTAMP:20260421T223552
CREATED:20231206T175305Z
LAST-MODIFIED:20260218T152340Z
UID:6822-1701369000-1701372600@filarmonicabotosani.ro
SUMMARY:Concert Cameral
DESCRIPTION:
URL:https://filarmonicabotosani.ro/concert/concert-cameral-30112023
LOCATION:Casa de Cultură a Sindicatelor\, Botoșani\, România
CATEGORIES:Concerte
ATTACH;FMTTYPE=image/jpeg:https://filarmonicabotosani.ro/wp-content/uploads/2023/12/30nov2023.jpg
END:VEVENT
END:VCALENDAR