BEGIN:VCALENDAR
VERSION:2.0
PRODID:-//Filarmonica &quot;George Enescu&quot; Botoșani - ECPv6.15.20//NONSGML v1.0//EN
CALSCALE:GREGORIAN
METHOD:PUBLISH
X-WR-CALNAME:Filarmonica &quot;George Enescu&quot; Botoșani
X-ORIGINAL-URL:https://filarmonicabotosani.ro
X-WR-CALDESC:Events for Filarmonica &quot;George Enescu&quot; Botoșani
REFRESH-INTERVAL;VALUE=DURATION:PT1H
X-Robots-Tag:noindex
X-PUBLISHED-TTL:PT1H
BEGIN:VTIMEZONE
TZID:Europe/Bucharest
BEGIN:DAYLIGHT
TZOFFSETFROM:+0200
TZOFFSETTO:+0300
TZNAME:EEST
DTSTART:20220327T010000
END:DAYLIGHT
BEGIN:STANDARD
TZOFFSETFROM:+0300
TZOFFSETTO:+0200
TZNAME:EET
DTSTART:20221030T010000
END:STANDARD
BEGIN:DAYLIGHT
TZOFFSETFROM:+0200
TZOFFSETTO:+0300
TZNAME:EEST
DTSTART:20230326T010000
END:DAYLIGHT
BEGIN:STANDARD
TZOFFSETFROM:+0300
TZOFFSETTO:+0200
TZNAME:EET
DTSTART:20231029T010000
END:STANDARD
BEGIN:DAYLIGHT
TZOFFSETFROM:+0200
TZOFFSETTO:+0300
TZNAME:EEST
DTSTART:20240331T010000
END:DAYLIGHT
BEGIN:STANDARD
TZOFFSETFROM:+0300
TZOFFSETTO:+0200
TZNAME:EET
DTSTART:20241027T010000
END:STANDARD
END:VTIMEZONE
BEGIN:VEVENT
DTSTART;TZID=Europe/Bucharest:20231208T183000
DTEND;TZID=Europe/Bucharest:20231208T193000
DTSTAMP:20260421T210753
CREATED:20231206T175034Z
LAST-MODIFIED:20260218T152339Z
UID:6819-1702060200-1702063800@filarmonicabotosani.ro
SUMMARY:Concert Simfonic
DESCRIPTION:
URL:https://filarmonicabotosani.ro/concert/concert-simfonic-8122023
LOCATION:Casa de Cultură a Sindicatelor\, Botoșani\, România
CATEGORIES:Concerte
ATTACH;FMTTYPE=image/jpeg:https://filarmonicabotosani.ro/wp-content/uploads/2023/12/8dec2023.jpg
END:VEVENT
BEGIN:VEVENT
DTSTART;TZID=Europe/Bucharest:20231214T183000
DTEND;TZID=Europe/Bucharest:20231214T200000
DTSTAMP:20260421T210753
CREATED:20231206T175812Z
LAST-MODIFIED:20260218T152339Z
UID:6825-1702578600-1702584000@filarmonicabotosani.ro
SUMMARY:Concert de Craciun
DESCRIPTION:Dirijor: TIBERIU OPREA\nSolisti: OZANA BARABANCEA\, soprana\nANA MARIA DONOSE\, soprana\nBRIO SONORES \nPrezentator: DAN NEGRU
URL:https://filarmonicabotosani.ro/concert/concert-de-craciun-14122023
LOCATION:Casa de Cultură a Sindicatelor\, Botoșani\, România
CATEGORIES:Concerte
ATTACH;FMTTYPE=image/jpeg:https://filarmonicabotosani.ro/wp-content/uploads/2023/12/14-15.dec2023.jpg
END:VEVENT
BEGIN:VEVENT
DTSTART;TZID=Europe/Bucharest:20231215T183000
DTEND;TZID=Europe/Bucharest:20231215T200000
DTSTAMP:20260421T210753
CREATED:20231206T175912Z
LAST-MODIFIED:20260218T152339Z
UID:6828-1702665000-1702670400@filarmonicabotosani.ro
SUMMARY:Concert de Craciun
DESCRIPTION:Dirijor: TIBERIU OPREA\nSolisti: OZANA BARABANCEA\, soprana\nANA MARIA DONOSE\, soprana\nBRIO SONORES \nPrezentator: DAN NEGRU
URL:https://filarmonicabotosani.ro/concert/concert-de-craciun-15122023
LOCATION:Casa de Cultură a Sindicatelor\, Botoșani\, România
CATEGORIES:Concerte
ATTACH;FMTTYPE=image/jpeg:https://filarmonicabotosani.ro/wp-content/uploads/2023/12/14-15.dec2023.jpg
END:VEVENT
BEGIN:VEVENT
DTSTART;TZID=Europe/Bucharest:20231220T183000
DTEND;TZID=Europe/Bucharest:20231220T183000
DTSTAMP:20260421T210753
CREATED:20231217T102022Z
LAST-MODIFIED:20260218T152338Z
UID:6832-1703097000-1703097000@filarmonicabotosani.ro
SUMMARY:Concert 3 Tenori de Crăciun
DESCRIPTION:Bilete doar in format fizic\, la sediul FILARMONICII BOTOSANI.\nPreț întreg- 50 lei\nPreț redus- 30 lei
URL:https://filarmonicabotosani.ro/concert/concert-3-tenori-de-craciun
LOCATION:Casa de Cultură a Sindicatelor\, Botoșani\, România
CATEGORIES:Concerte
ATTACH;FMTTYPE=image/jpeg:https://filarmonicabotosani.ro/wp-content/uploads/2023/12/20dec.jpg
END:VEVENT
END:VCALENDAR