BEGIN:VCALENDAR
VERSION:2.0
PRODID:-//Filarmonica &quot;George Enescu&quot; Botoșani - ECPv6.15.20//NONSGML v1.0//EN
CALSCALE:GREGORIAN
METHOD:PUBLISH
X-WR-CALNAME:Filarmonica &quot;George Enescu&quot; Botoșani
X-ORIGINAL-URL:https://filarmonicabotosani.ro
X-WR-CALDESC:Events for Filarmonica &quot;George Enescu&quot; Botoșani
REFRESH-INTERVAL;VALUE=DURATION:PT1H
X-Robots-Tag:noindex
X-PUBLISHED-TTL:PT1H
BEGIN:VTIMEZONE
TZID:Europe/Bucharest
BEGIN:DAYLIGHT
TZOFFSETFROM:+0200
TZOFFSETTO:+0300
TZNAME:EEST
DTSTART:20230326T010000
END:DAYLIGHT
BEGIN:STANDARD
TZOFFSETFROM:+0300
TZOFFSETTO:+0200
TZNAME:EET
DTSTART:20231029T010000
END:STANDARD
BEGIN:DAYLIGHT
TZOFFSETFROM:+0200
TZOFFSETTO:+0300
TZNAME:EEST
DTSTART:20240331T010000
END:DAYLIGHT
BEGIN:STANDARD
TZOFFSETFROM:+0300
TZOFFSETTO:+0200
TZNAME:EET
DTSTART:20241027T010000
END:STANDARD
BEGIN:DAYLIGHT
TZOFFSETFROM:+0200
TZOFFSETTO:+0300
TZNAME:EEST
DTSTART:20250330T010000
END:DAYLIGHT
BEGIN:STANDARD
TZOFFSETFROM:+0300
TZOFFSETTO:+0200
TZNAME:EET
DTSTART:20251026T010000
END:STANDARD
END:VTIMEZONE
BEGIN:VEVENT
DTSTART;TZID=Europe/Bucharest:20240118T183000
DTEND;TZID=Europe/Bucharest:20240118T193000
DTSTAMP:20260421T193136
CREATED:20231230T231932Z
LAST-MODIFIED:20260218T152338Z
UID:6836-1705602600-1705606200@filarmonicabotosani.ro
SUMMARY:Concert de Anul Nou 2024
DESCRIPTION:● Vã aşteptãm la Concertul Pentru Noul An 2024\, spectacol ce va avea loc pe data de 18 şi 19 Ianuarie\, de la ora 18.30. \n● Cu un Parfum de Regal Vienez\, va fi un concert aparte\, cu un repertoriu bine ales\, cu artişti Premium şi un Dirijor de clasã\, ce vã vor cânta şi încânta! \n● Biletele vor fi puse în vânzare pe data de 3 Ianuarie 2024\, la sediul Filarmonicii şi Online pe IaBilet în cursul aceleiaşi zile. \n● Informații/Rezervãri\n0371333350 \n● Preț bilete :\nCategoria I- a – 100 Ron\nCategoria II- a- 80 Ron (balcon) \nFILARMONICA BOTOSANI vã ureazã LA MULȚI ANI!
URL:https://filarmonicabotosani.ro/concert/concert-de-anul-nou-2024-18012024
LOCATION:Casa de Cultură a Sindicatelor\, Botoșani\, România
CATEGORIES:Concerte
ATTACH;FMTTYPE=image/jpeg:https://filarmonicabotosani.ro/wp-content/uploads/2023/12/anul-nou-2024.jpg
END:VEVENT
BEGIN:VEVENT
DTSTART;TZID=Europe/Bucharest:20240119T183000
DTEND;TZID=Europe/Bucharest:20240119T193000
DTSTAMP:20260421T193136
CREATED:20231230T232056Z
LAST-MODIFIED:20260218T152338Z
UID:6840-1705689000-1705692600@filarmonicabotosani.ro
SUMMARY:Concert de Anul Nou 2024
DESCRIPTION:● Vã aşteptãm la Concertul Pentru Noul An 2024\, spectacol ce va avea loc pe data de 18 şi 19 Ianuarie\, de la ora 18.30. \n● Cu un Parfum de Regal Vienez\, va fi un concert aparte\, cu un repertoriu bine ales\, cu artişti Premium şi un Dirijor de clasã\, ce vã vor cânta şi încânta! \n● Biletele vor fi puse în vânzare pe data de 3 Ianuarie 2024\, la sediul Filarmonicii şi Online pe IaBilet în cursul aceleiaşi zile. \n● Informații/Rezervãri\n0371333350 \n● Preț bilete :\nCategoria I- a – 100 Ron\nCategoria II- a- 80 Ron (balcon) \nFILARMONICA BOTOSANI vã ureazã LA MULȚI ANI!
URL:https://filarmonicabotosani.ro/concert/concert-de-anul-nou-2024-19012024
LOCATION:Casa de Cultură a Sindicatelor\, Botoșani\, România
CATEGORIES:Concerte
ATTACH;FMTTYPE=image/jpeg:https://filarmonicabotosani.ro/wp-content/uploads/2023/12/anul-nou-2024.jpg
END:VEVENT
BEGIN:VEVENT
DTSTART;TZID=Europe/Bucharest:20240126T183000
DTEND;TZID=Europe/Bucharest:20240126T193000
DTSTAMP:20260421T193136
CREATED:20240123T200301Z
LAST-MODIFIED:20260218T152338Z
UID:6855-1706293800-1706297400@filarmonicabotosani.ro
SUMMARY:Concert simfonic
DESCRIPTION:
URL:https://filarmonicabotosani.ro/concert/concert-simfonic-26012024
LOCATION:Casa de Cultură a Sindicatelor\, Botoșani\, România
CATEGORIES:Concerte
ATTACH;FMTTYPE=image/jpeg:https://filarmonicabotosani.ro/wp-content/uploads/2024/01/26ian-1.jpg
END:VEVENT
END:VCALENDAR