BEGIN:VCALENDAR
VERSION:2.0
PRODID:-//Filarmonica &quot;George Enescu&quot; Botoșani - ECPv6.15.20//NONSGML v1.0//EN
CALSCALE:GREGORIAN
METHOD:PUBLISH
X-WR-CALNAME:Filarmonica &quot;George Enescu&quot; Botoșani
X-ORIGINAL-URL:https://filarmonicabotosani.ro
X-WR-CALDESC:Events for Filarmonica &quot;George Enescu&quot; Botoșani
REFRESH-INTERVAL;VALUE=DURATION:PT1H
X-Robots-Tag:noindex
X-PUBLISHED-TTL:PT1H
BEGIN:VTIMEZONE
TZID:Europe/Bucharest
BEGIN:DAYLIGHT
TZOFFSETFROM:+0200
TZOFFSETTO:+0300
TZNAME:EEST
DTSTART:20230326T010000
END:DAYLIGHT
BEGIN:STANDARD
TZOFFSETFROM:+0300
TZOFFSETTO:+0200
TZNAME:EET
DTSTART:20231029T010000
END:STANDARD
BEGIN:DAYLIGHT
TZOFFSETFROM:+0200
TZOFFSETTO:+0300
TZNAME:EEST
DTSTART:20240331T010000
END:DAYLIGHT
BEGIN:STANDARD
TZOFFSETFROM:+0300
TZOFFSETTO:+0200
TZNAME:EET
DTSTART:20241027T010000
END:STANDARD
BEGIN:DAYLIGHT
TZOFFSETFROM:+0200
TZOFFSETTO:+0300
TZNAME:EEST
DTSTART:20250330T010000
END:DAYLIGHT
BEGIN:STANDARD
TZOFFSETFROM:+0300
TZOFFSETTO:+0200
TZNAME:EET
DTSTART:20251026T010000
END:STANDARD
END:VTIMEZONE
BEGIN:VEVENT
DTSTART;TZID=Europe/Bucharest:20240202T183000
DTEND;TZID=Europe/Bucharest:20240202T193000
DTSTAMP:20260421T180356
CREATED:20240126T211015Z
LAST-MODIFIED:20260218T152337Z
UID:6863-1706898600-1706902200@filarmonicabotosani.ro
SUMMARY:Concert simfonic
DESCRIPTION:
URL:https://filarmonicabotosani.ro/concert/concert-simfonic-02022024
LOCATION:Casa de Cultură a Sindicatelor\, Botoșani\, România
CATEGORIES:Concerte
ATTACH;FMTTYPE=image/jpeg:https://filarmonicabotosani.ro/wp-content/uploads/2024/02/2feb.jpg
END:VEVENT
BEGIN:VEVENT
DTSTART;TZID=Europe/Bucharest:20240209T183000
DTEND;TZID=Europe/Bucharest:20240209T193000
DTSTAMP:20260421T180356
CREATED:20240203T211132Z
LAST-MODIFIED:20260218T152337Z
UID:6866-1707503400-1707507000@filarmonicabotosani.ro
SUMMARY:Concert simfonic
DESCRIPTION:
URL:https://filarmonicabotosani.ro/concert/concert-simfonic-09022024
LOCATION:Casa de Cultură a Sindicatelor\, Botoșani\, România
CATEGORIES:Concerte
ATTACH;FMTTYPE=image/jpeg:https://filarmonicabotosani.ro/wp-content/uploads/2024/02/9-februarie.jpg
END:VEVENT
BEGIN:VEVENT
DTSTART;TZID=Europe/Bucharest:20240216T183000
DTEND;TZID=Europe/Bucharest:20240216T193000
DTSTAMP:20260421T180356
CREATED:20240206T211605Z
LAST-MODIFIED:20260218T152337Z
UID:6869-1708108200-1708111800@filarmonicabotosani.ro
SUMMARY:Valentine's Day
DESCRIPTION:
URL:https://filarmonicabotosani.ro/concert/valentines-day
LOCATION:Casa de Cultură a Sindicatelor\, Botoșani\, România
CATEGORIES:Concerte
ATTACH;FMTTYPE=image/jpeg:https://filarmonicabotosani.ro/wp-content/uploads/2024/02/concerte-2024-pag-1.jpg
END:VEVENT
BEGIN:VEVENT
DTSTART;TZID=Europe/Bucharest:20240223T183000
DTEND;TZID=Europe/Bucharest:20240223T193000
DTSTAMP:20260421T180356
CREATED:20240206T212557Z
LAST-MODIFIED:20260218T152337Z
UID:6872-1708713000-1708716600@filarmonicabotosani.ro
SUMMARY:Direcția 5 Simfonic
DESCRIPTION:
URL:https://filarmonicabotosani.ro/concert/directia-5-simfonic
LOCATION:Casa de Cultură a Sindicatelor\, Botoșani\, România
CATEGORIES:Concerte
ATTACH;FMTTYPE=image/jpeg:https://filarmonicabotosani.ro/wp-content/uploads/2024/02/23feb2024.jpg
END:VEVENT
END:VCALENDAR