BEGIN:VCALENDAR
VERSION:2.0
PRODID:-//Filarmonica &quot;George Enescu&quot; Botoșani - ECPv6.15.20//NONSGML v1.0//EN
CALSCALE:GREGORIAN
METHOD:PUBLISH
X-WR-CALNAME:Filarmonica &quot;George Enescu&quot; Botoșani
X-ORIGINAL-URL:https://filarmonicabotosani.ro
X-WR-CALDESC:Events for Filarmonica &quot;George Enescu&quot; Botoșani
REFRESH-INTERVAL;VALUE=DURATION:PT1H
X-Robots-Tag:noindex
X-PUBLISHED-TTL:PT1H
BEGIN:VTIMEZONE
TZID:Europe/Bucharest
BEGIN:DAYLIGHT
TZOFFSETFROM:+0200
TZOFFSETTO:+0300
TZNAME:EEST
DTSTART:20230326T010000
END:DAYLIGHT
BEGIN:STANDARD
TZOFFSETFROM:+0300
TZOFFSETTO:+0200
TZNAME:EET
DTSTART:20231029T010000
END:STANDARD
BEGIN:DAYLIGHT
TZOFFSETFROM:+0200
TZOFFSETTO:+0300
TZNAME:EEST
DTSTART:20240331T010000
END:DAYLIGHT
BEGIN:STANDARD
TZOFFSETFROM:+0300
TZOFFSETTO:+0200
TZNAME:EET
DTSTART:20241027T010000
END:STANDARD
BEGIN:DAYLIGHT
TZOFFSETFROM:+0200
TZOFFSETTO:+0300
TZNAME:EEST
DTSTART:20250330T010000
END:DAYLIGHT
BEGIN:STANDARD
TZOFFSETFROM:+0300
TZOFFSETTO:+0200
TZNAME:EET
DTSTART:20251026T010000
END:STANDARD
END:VTIMEZONE
BEGIN:VEVENT
DTSTART;TZID=Europe/Bucharest:20240404T183000
DTEND;TZID=Europe/Bucharest:20240404T193000
DTSTAMP:20260421T150320
CREATED:20240309T202707Z
LAST-MODIFIED:20240328T175355Z
UID:6894-1712255400-1712259000@filarmonicabotosani.ro
SUMMARY:Cesar Franck - Simfonia in re minor
DESCRIPTION:
URL:https://filarmonicabotosani.ro/concert/cesar-franck-simfonia-in-re-minor
LOCATION:Casa de Cultură a Sindicatelor\, Botoșani\, România
CATEGORIES:Concerte
ATTACH;FMTTYPE=image/jpeg:https://filarmonicabotosani.ro/wp-content/uploads/2024/03/4apr.jpg
END:VEVENT
BEGIN:VEVENT
DTSTART;TZID=Europe/Bucharest:20240412T183000
DTEND;TZID=Europe/Bucharest:20240412T193000
DTSTAMP:20260421T150320
CREATED:20240328T175636Z
LAST-MODIFIED:20240328T175637Z
UID:6910-1712946600-1712950200@filarmonicabotosani.ro
SUMMARY:Cenaclul Flacăra Simfonic
DESCRIPTION:
URL:https://filarmonicabotosani.ro/concert/cenaclul-flacara-simfonic
LOCATION:Casa de Cultură a Sindicatelor\, Botoșani\, România
CATEGORIES:Concerte
ATTACH;FMTTYPE=image/jpeg:https://filarmonicabotosani.ro/wp-content/uploads/2024/03/12apr.jpg
END:VEVENT
BEGIN:VEVENT
DTSTART;TZID=Europe/Bucharest:20240419T183000
DTEND;TZID=Europe/Bucharest:20240419T193000
DTSTAMP:20260421T150320
CREATED:20240416T184643Z
LAST-MODIFIED:20240416T184643Z
UID:6931-1713551400-1713555000@filarmonicabotosani.ro
SUMMARY:Cargo Clasic
DESCRIPTION:Trupa Cargo alaturi de Orchestra Simfonica a Filarmonicii \,\,George Enescu” Botosani\nDirijor: MARIUS HRISTESCU\n\nBilete\nCategoria I – 100 Ron.\nCategoria II – 80 Ron.\n\nInfo şi rezervãri la numãrul de telefon 0371333350
URL:https://filarmonicabotosani.ro/concert/cargo-clasic
LOCATION:Casa de Cultură a Sindicatelor\, Botoșani\, România
CATEGORIES:Concerte
ATTACH;FMTTYPE=image/jpeg:https://filarmonicabotosani.ro/wp-content/uploads/2024/04/cargo-19apr.jpg
END:VEVENT
BEGIN:VEVENT
DTSTART;TZID=Europe/Bucharest:20240426T183000
DTEND;TZID=Europe/Bucharest:20240426T193000
DTSTAMP:20260421T150320
CREATED:20240422T195622Z
LAST-MODIFIED:20240422T195622Z
UID:6944-1714156200-1714159800@filarmonicabotosani.ro
SUMMARY:Concert simfonic
DESCRIPTION:
URL:https://filarmonicabotosani.ro/concert/concert-simfonic-26apr24
LOCATION:Casa de Cultură a Sindicatelor\, Botoșani\, România
CATEGORIES:Concerte
ATTACH;FMTTYPE=image/jpeg:https://filarmonicabotosani.ro/wp-content/uploads/2024/04/26apr2024.jpg
END:VEVENT
END:VCALENDAR