BEGIN:VCALENDAR
VERSION:2.0
PRODID:-//Filarmonica &quot;George Enescu&quot; Botoșani - ECPv6.15.20//NONSGML v1.0//EN
CALSCALE:GREGORIAN
METHOD:PUBLISH
X-ORIGINAL-URL:https://filarmonicabotosani.ro
X-WR-CALDESC:Events for Filarmonica &quot;George Enescu&quot; Botoșani
REFRESH-INTERVAL;VALUE=DURATION:PT1H
X-Robots-Tag:noindex
X-PUBLISHED-TTL:PT1H
BEGIN:VTIMEZONE
TZID:Europe/Bucharest
BEGIN:DAYLIGHT
TZOFFSETFROM:+0200
TZOFFSETTO:+0300
TZNAME:EEST
DTSTART:20230326T010000
END:DAYLIGHT
BEGIN:STANDARD
TZOFFSETFROM:+0300
TZOFFSETTO:+0200
TZNAME:EET
DTSTART:20231029T010000
END:STANDARD
BEGIN:DAYLIGHT
TZOFFSETFROM:+0200
TZOFFSETTO:+0300
TZNAME:EEST
DTSTART:20240331T010000
END:DAYLIGHT
BEGIN:STANDARD
TZOFFSETFROM:+0300
TZOFFSETTO:+0200
TZNAME:EET
DTSTART:20241027T010000
END:STANDARD
BEGIN:DAYLIGHT
TZOFFSETFROM:+0200
TZOFFSETTO:+0300
TZNAME:EEST
DTSTART:20250330T010000
END:DAYLIGHT
BEGIN:STANDARD
TZOFFSETFROM:+0300
TZOFFSETTO:+0200
TZNAME:EET
DTSTART:20251026T010000
END:STANDARD
END:VTIMEZONE
BEGIN:VEVENT
DTSTART;TZID=Europe/Bucharest:20240606T183000
DTEND;TZID=Europe/Bucharest:20240606T193000
DTSTAMP:20260421T122258
CREATED:20240531T093316Z
LAST-MODIFIED:20240531T093324Z
UID:6993-1717698600-1717702200@filarmonicabotosani.ro
SUMMARY:Tango Autentico
DESCRIPTION:
URL:https://filarmonicabotosani.ro/concert/tango-autentico
LOCATION:Casa de Cultură a Sindicatelor\, Botoșani\, România
CATEGORIES:Concerte
ATTACH;FMTTYPE=image/jpeg:https://filarmonicabotosani.ro/wp-content/uploads/2024/05/6iun.jpg
END:VEVENT
BEGIN:VEVENT
DTSTART;TZID=Europe/Bucharest:20240607T183000
DTEND;TZID=Europe/Bucharest:20240607T193000
DTSTAMP:20260421T122258
CREATED:20240529T155418Z
LAST-MODIFIED:20240529T155418Z
UID:6984-1717785000-1717788600@filarmonicabotosani.ro
SUMMARY:Duelul Viorilor
DESCRIPTION:
URL:https://filarmonicabotosani.ro/concert/duelul-viorilor
LOCATION:Casa de Cultură a Sindicatelor\, Botoșani\, România
CATEGORIES:Concerte
ATTACH;FMTTYPE=image/png:https://filarmonicabotosani.ro/wp-content/uploads/2024/05/7iunie2024.png
END:VEVENT
BEGIN:VEVENT
DTSTART;TZID=Europe/Bucharest:20240612T183000
DTEND;TZID=Europe/Bucharest:20240612T193000
DTSTAMP:20260421T122258
CREATED:20240611T103244Z
LAST-MODIFIED:20240611T103320Z
UID:7006-1718217000-1718220600@filarmonicabotosani.ro
SUMMARY:Concertul Excelenței
DESCRIPTION:
URL:https://filarmonicabotosani.ro/concert/concertul-excelentei
LOCATION:Casa de Cultură a Sindicatelor\, Botoșani\, România
CATEGORIES:Concerte
ATTACH;FMTTYPE=image/jpeg:https://filarmonicabotosani.ro/wp-content/uploads/2024/06/12iun.jpg
END:VEVENT
BEGIN:VEVENT
DTSTART;TZID=Europe/Bucharest:20240614T183000
DTEND;TZID=Europe/Bucharest:20240614T193000
DTSTAMP:20260421T122258
CREATED:20240604T130120Z
LAST-MODIFIED:20240604T130120Z
UID:7002-1718389800-1718393400@filarmonicabotosani.ro
SUMMARY:Compact Simfonic
DESCRIPTION:
URL:https://filarmonicabotosani.ro/concert/compact-simfonic
LOCATION:Casa de Cultură a Sindicatelor\, Botoșani\, România
CATEGORIES:Concerte
ATTACH;FMTTYPE=image/jpeg:https://filarmonicabotosani.ro/wp-content/uploads/2024/06/compact-simfonic.jpeg
END:VEVENT
BEGIN:VEVENT
DTSTART;TZID=Europe/Bucharest:20240620T183000
DTEND;TZID=Europe/Bucharest:20240620T193000
DTSTAMP:20260421T122258
CREATED:20240614T121729Z
LAST-MODIFIED:20240614T121729Z
UID:7014-1718908200-1718911800@filarmonicabotosani.ro
SUMMARY:Fly Tour 2024
DESCRIPTION:
URL:https://filarmonicabotosani.ro/concert/fly-tour-2024
LOCATION:Casa de Cultură a Sindicatelor\, Botoșani\, România
CATEGORIES:Concerte
ATTACH;FMTTYPE=image/jpeg:https://filarmonicabotosani.ro/wp-content/uploads/2024/06/fly-tour.jpg
END:VEVENT
BEGIN:VEVENT
DTSTART;TZID=Europe/Bucharest:20240621T183000
DTEND;TZID=Europe/Bucharest:20240621T193000
DTSTAMP:20260421T122258
CREATED:20240618T062937Z
LAST-MODIFIED:20240618T063000Z
UID:7027-1718994600-1718998200@filarmonicabotosani.ro
SUMMARY:Concert simfonic
DESCRIPTION:
URL:https://filarmonicabotosani.ro/concert/concert-simfonic-210624
LOCATION:Casa de Cultură a Sindicatelor\, Botoșani\, România
CATEGORIES:Concerte
ATTACH;FMTTYPE=image/png:https://filarmonicabotosani.ro/wp-content/uploads/2024/06/fila.png
END:VEVENT
BEGIN:VEVENT
DTSTART;TZID=Europe/Bucharest:20240628T183000
DTEND;TZID=Europe/Bucharest:20240628T193000
DTSTAMP:20260421T122258
CREATED:20240620T090336Z
LAST-MODIFIED:20240620T090401Z
UID:7034-1719599400-1719603000@filarmonicabotosani.ro
SUMMARY:Concert Simfonic
DESCRIPTION:
URL:https://filarmonicabotosani.ro/concert/concert-simfonic-28062024
LOCATION:Casa de Cultură a Sindicatelor\, Botoșani\, România
CATEGORIES:Concerte
ATTACH;FMTTYPE=image/jpeg:https://filarmonicabotosani.ro/wp-content/uploads/2024/06/28-iunie-2024.jpg
END:VEVENT
END:VCALENDAR