BEGIN:VCALENDAR
VERSION:2.0
PRODID:-//Filarmonica &quot;George Enescu&quot; Botoșani - ECPv6.15.20//NONSGML v1.0//EN
CALSCALE:GREGORIAN
METHOD:PUBLISH
X-ORIGINAL-URL:https://filarmonicabotosani.ro
X-WR-CALDESC:Events for Filarmonica &quot;George Enescu&quot; Botoșani
REFRESH-INTERVAL;VALUE=DURATION:PT1H
X-Robots-Tag:noindex
X-PUBLISHED-TTL:PT1H
BEGIN:VTIMEZONE
TZID:Europe/Bucharest
BEGIN:DAYLIGHT
TZOFFSETFROM:+0200
TZOFFSETTO:+0300
TZNAME:EEST
DTSTART:20250330T010000
END:DAYLIGHT
BEGIN:STANDARD
TZOFFSETFROM:+0300
TZOFFSETTO:+0200
TZNAME:EET
DTSTART:20251026T010000
END:STANDARD
BEGIN:DAYLIGHT
TZOFFSETFROM:+0200
TZOFFSETTO:+0300
TZNAME:EEST
DTSTART:20260329T010000
END:DAYLIGHT
BEGIN:STANDARD
TZOFFSETFROM:+0300
TZOFFSETTO:+0200
TZNAME:EET
DTSTART:20261025T010000
END:STANDARD
BEGIN:DAYLIGHT
TZOFFSETFROM:+0200
TZOFFSETTO:+0300
TZNAME:EEST
DTSTART:20270328T010000
END:DAYLIGHT
BEGIN:STANDARD
TZOFFSETFROM:+0300
TZOFFSETTO:+0200
TZNAME:EET
DTSTART:20271031T010000
END:STANDARD
END:VTIMEZONE
BEGIN:VEVENT
DTSTART;TZID=Europe/Bucharest:20260417T180000
DTEND;TZID=Europe/Bucharest:20260417T220000
DTSTAMP:20260423T014504
CREATED:20260409T162804Z
LAST-MODIFIED:20260409T201843Z
UID:7780-1776448800-1776463200@filarmonicabotosani.ro
SUMMARY:Puya Urban Symphony Live
DESCRIPTION:PUYA! URBAN SYMPHONY LIVE \nVineri\, 17 Aprilie\, 2 concerte inedite de divertisment muzical\, de la ora 18.00 şi ora 20.00; de pe scena marilor festivaluri de la Untold şi Neversea\, în fața publicului din Botoşani – sala Teatrul „Mihai Eminescu” Botoșani. \nBilete puteți cumpãra online:\n– pentru ora 18.00 aici: https://share.google/lh6ZOqn2SKd4vrBD2\n– pentru ora 20.00\, aici: https://share.google/F7wKf3Qxye4Lgf1ut \nBilete în format fizic puteți achiziționa de Marți\, 14 Aprilie\, de la sediul FILARMONICA BOTOSANI\, în incinta teatrului Eminescu.
URL:https://filarmonicabotosani.ro/concert/puya-urban-symphony-live
LOCATION:Sala Teatrului „Mihai Eminescu” Botoşani\, Str. Teatrului 5\, Botoșani\, Botoșani\, 717113\, Romania
CATEGORIES:Concerte
ATTACH;FMTTYPE=image/jpeg:https://filarmonicabotosani.ro/wp-content/uploads/2026/04/puya-17042026.jpg
END:VEVENT
BEGIN:VEVENT
DTSTART;TZID=Europe/Bucharest:20260423T183000
DTEND;TZID=Europe/Bucharest:20260423T200000
DTSTAMP:20260423T014504
CREATED:20260422T084520Z
LAST-MODIFIED:20260422T084521Z
UID:7793-1776969000-1776974400@filarmonicabotosani.ro
SUMMARY:Concert Simfonic Extraordinar
DESCRIPTION:Filarmonica „George Enescu” Botoșani invită publicul meloman la un concert simfonic extraordinar\, ce va avea loc miercuri\, 23 aprilie 2026\, de la ora 18:30\, în Sala Teatrului „Mihai Eminescu” din Botoșani. \nSeara va fi condusă de dirijorul Tiberiu Soare\, unul dintre cei mai apreciați muzicieni români ai momentului\, recunoscut pentru rafinamentul interpretativ și energia pe care o transmite fiecărei partituri. În ipostază solistică\, publicul îl va putea asculta pe violonistul Robert Eduard Ursache\, un artist de o sensibilitate aparte și o prezență scenică remarcabilă. \nProgramul serii\nRepertoriul propus aduce în prim-plan lucrări de mare expresivitate și profunzime: \n\nGeorge Enescu – Balada pentru vioară și orchestrăO lucrare emblematică a creației enesciene\, ce îmbină lirismul cu intensitatea emoțională specifică stilului compozitorului român.\nErnest Chausson – Poem pentru vioară și orchestrăO pagină muzicală de o delicatețe impresionantă\, caracterizată printr-un discurs sonor fluid și profund evocator.\nCharles Gounod – Simfonia nr. 1 în Re majorO lucrare plină de eleganță și echilibru clasic\, ce evidențiază influențele mozartiene într-un limbaj orchestral luminos și accesibil.
URL:https://filarmonicabotosani.ro/concert/concert-simfonic-extraordinar
LOCATION:Sala Teatrului „Mihai Eminescu” Botoşani\, Str. Teatrului 5\, Botoșani\, Botoșani\, 717113\, Romania
CATEGORIES:Concerte
ATTACH;FMTTYPE=image/jpeg:https://filarmonicabotosani.ro/wp-content/uploads/2026/04/23-aprilie.jpg
END:VEVENT
END:VCALENDAR